BEGIN:VCALENDAR
PRODID:www.ticketshop-kskhn.de
VERSION:2.0
CALSCALE:GREGORIAN
BEGIN:VEVENT
UID:bd942a8ca28fc85bc97f5770eadbe17d
DTSTAMP:20260423T143704Z
SUMMARY:2. blacksheep Sommerfest
DESCRIPTION:Sichern Sie sich Ihre Tickets für das 2. Sommerfest des legend
 äre Blacksheep Festivals im Bonfelder Schlosspark. Gleich hier bestellen 
 zum Sonderpreis für alle Girokontokunden der Kreissparkasse Heilbronn.\n\
 nTagesticket für nur 53 Euro (anstatt 59 Euro) mit den folgenden Bandhigh
 lights:\n\nMax Mutzke\, Steve’n’Seagulls und Vanja Sky\n\nBeginn 17.00
  Uhr\, Einlass 15.00 Uhr. Weitere Informationen finden Sie unter www.black
 sheep-kultur.de.\n
URL:https://www.ticketshop-kskhn.de/event/876267
DTSTART;VALUE=DATE:20260627
LOCATION:Kirchhausener Straße 1\, 74906 Bad Rappenau-Bonfeld
END:VEVENT
END:VCALENDAR
