BEGIN:VCALENDAR
PRODID:www.ticketshop-kskhn.de
VERSION:2.0
CALSCALE:GREGORIAN
BEGIN:VEVENT
UID:33cd21d95ccd5399f75920be486d5034
DTSTAMP:20260425T153857Z
SUMMARY:Adventskonzert mit  Dinner
DESCRIPTION:Parkhotel Heilbronn\, Gymnasiumstr. 71\, 74072 Heilbronn\n\n \
 n\n"Adventskonzert mit Dinner"\n\nAmy Lungu & Friends mit Special Guests:\
 n\nAmy Lungu – Violine\nChristoph Weinhart – Klavier\nRuth Sabadino 
 – Saxophon\nBasti Schiller – Kontrabass\nChristoph Sabadino – Schlag
 zeug\n\nEin besonderer Höhepunkt im Konzertjahr ist das beliebte Adventsk
 onzert von Amy Lungu und ihrer Band. Der stimmungsvolle Abend im Parkhotel
  Heilbronn steigert die Vorfreude aufs Fest\, bietet er doch neben wunders
 chöner Weihnachtsmusik auch ein hervorragendes Dinner. Genießen Sie trad
 itionelle deutsche Weihnachtslieder und internationale Songs wie die ameri
 kanischen Christmas-Klassiker mit einer Portion Glamour! Die Plätze sind 
 begrenzt – es lohnt sich eine frühe Reservierung.\n
URL:https://www.ticketshop-kskhn.de/event/845366
DTSTART:20261220T180000
DTEND:20261220T213000
LOCATION:Gymnasiumstr. 71\, 74072 Heilbronn
END:VEVENT
END:VCALENDAR
