BEGIN:VCALENDAR
PRODID:www.ticketshop-kskhn.de
VERSION:2.0
CALSCALE:GREGORIAN
BEGIN:VEVENT
UID:6c24f4bc588ab2bd8e5ea0edf4c3b8f1
DTSTAMP:20260425T153334Z
SUMMARY:Best of James Bond
DESCRIPTION:Kursaal Bad Wimpfen\nOsterbergstraße 16\n74206 Bad Wimpfen\n\n
  \n\nBond. James Bond. Der legendäre Geheimagent im Dienst der britische
 n Krone fasziniert seit Generationen. Seine Missionen sind atemberaubend\,
  spannend und zugleich von zeitloser Eleganz. Doch was wäre 007 ohne sein
 e unvergessliche Musik? Denn nicht minder ikonisch sind das unvergleichlic
 he Filmintro sowie die Songs der Filme. Amy Lungu & Friends nehmen Sie mit
  auf eine musikalische Reise durch die schönsten Melodien der legendären
  Bond-Filme. Das fünfköpfige Ensemble verleiht den Klassikern mit frisc
 hen Arrangements neuen Glanz\, echten Thrill und verspricht Gänsehautmome
 nte voller Eleganz und Energie.\n\nHinweis: Sofern die Veranstaltung nich
 t als ausverkauft angezeigt wird\, sind Restkarten an der Abendkasse erhä
 ltlich. Diese können Sie dann gerne vor Ort bar bezahlen.\n
URL:https://www.ticketshop-kskhn.de/event/845363
DTSTART:20261121T190000
DTEND:20261121T210000
LOCATION:Osterbergstraße 16\, 74206 Bad Wimpfen
END:VEVENT
END:VCALENDAR
