BEGIN:VCALENDAR
PRODID:www.ticketshop-kskhn.de
VERSION:2.0
CALSCALE:GREGORIAN
BEGIN:VEVENT
UID:cbfd010a0f473a9d6a472b19375ed587
DTSTAMP:20260425T154951Z
SUMMARY:Hearts and Bones - Songs of a century
DESCRIPTION:SLK Kliniken Heilbronn - Franziska-Schwarz-Hörsaal\nAm Gesundb
 runnen 20-26\n74078 Heilbronn\n\n \n\nBiggi Binder – Gesang & Percussio
 n\narbara Gräsle – Gitarre\n\n„Hearts and Bones“ mit Songs der 60er
 \, 70er und 80er. Sängerin Biggi Binder fesselt durch ihre rockig-soulige
  und facettenreiche Stimme\, die perfekt zum Gitarrenspiel von Barbara Gr
 äsle passt. Bei den beiden Multitalenten kommen die verschiedensten Instr
 umente zum Einsatz wie Akkordeon\, Tin Whistle\, Waschbrett\, Percussion u
 nd Cajon. Dadurch verleihen sie ihrem reduzierten\, akustischen Sound weit
 ere Klangfarben und den nötigen Groove. Freuen Sie sich auf Songs u.a. vo
 n Cyndie Lauper\, Gloria Estefan\, Sting\, Zaz\, James Taylor und vielen m
 ehr in der Frauenpower-Version von „Hearts and Bones“!\n\nHinweis: So
 fern die Veranstaltung nicht als ausverkauft angezeigt wird\, sind Restkar
 ten an der Abendkasse erhältlich. Diese können Sie dann gerne vor Ort ba
 r bezahlen.\n
URL:https://www.ticketshop-kskhn.de/event/845348
DTSTART:20260924T183000
DTEND:20260924T194000
LOCATION:Am Gesundbrunnen 20-26\, 74078 Heilbronn
END:VEVENT
END:VCALENDAR
