BEGIN:VCALENDAR
PRODID:www.ticketshop-kskhn.de
VERSION:2.0
CALSCALE:GREGORIAN
BEGIN:VEVENT
UID:46b83957dc39aecd984b37823e552533
DTSTAMP:20260421T090153Z
SUMMARY:Songs of Love and Longing
DESCRIPTION:Campus Garden\nBildungscampus 1\n74076 Heilbronn\n\n \n\nRalf 
 Beitner – Gitarre & Gesang\nAmy Lungu – Violine\nCampus Garden – Tap
 as\n\nSinger-Songwriter Ralf Beitner und die herausragende Violinistin Amy
  Lungu laden zu einem Konzertabend ein\, der durch seine Nähe und persön
 liche Atmosphäre besticht. Ralf Beitners melodiöse Kompositionen sind wi
 e musikalische Gemälde\, die die Essenz und Stimmungen verschiedenster Or
 te und Momente einfangen. Seine einfühlsamen und treffsicheren Texte erz
 ählen Geschichten\, die die Zuhörer berühren und zum Nachdenken anregen
 .\n\nAmy Lungus Geige fügt diesen Stücken eine besondere Klangfarbe hinz
 u\, die in einem fesselnden Dialog mit Beitners Gesang steht – mal leise
  und einfühlsam\, mal kraftvoll und intensiv. Ihr virtuoses Spiel lässt 
 die Musik lebendig werden und verstärkt die emotionale Tiefe der Songs. B
 egleitet von Beitners gefühlvollem Gitarrenspiel\, das zwischen verschied
 enen Gitarrenfarben wechselt\, entsteht ein harmonisches Klangbild voller 
 Magie und Intensität.\n\nFreuen Sie sich auf einen zauberhaften Abend\, a
 n dem Klänge zu Landschaften werden und die Musik die Zuhörer in eine We
 lt voller Farben und Stimmungen entführt.Das Konzept serviert Klang und K
 ulinarik im Wechsel\, abgestimmt wie ein Menü in drei Akten.\n\nHinweis:
  Sofern die Veranstaltung nicht als ausverkauft angezeigt wird\, sind Res
 tkarten an der Abendkasse erhältlich. Diese können Sie dann gerne vor Or
 t bar bezahlen.\n
URL:https://www.ticketshop-kskhn.de/event/845347
DTSTART:20260826T193000
DTEND:20260826T210000
LOCATION:Bildungscampus 1\, 74076 Heilbronn
END:VEVENT
END:VCALENDAR
